3.3107976199
0.0000000000
0.0000000000
-3.3107976200
1605397.9553988101
83508.7415011900
