3.3091387900
0.0000000000
0.0000000000
-3.3091387900
1325243.8245693948
85531.8303306050
