3.4240402200
0.0000000000
0.0000000000
-3.4240402200
1062636.9720201101
90368.6181798900
