3.4242115300
0.0000000000
0.0000000000
-3.4242115300
673935.9501057650
444514.1748942350
