3.4243855000
0.0000000000
0.0000000000
-3.4243855000
518714.8261927500
451302.2168072500
