3.4773986298
0.0000000000
0.0000000000
-3.4773986300
2777194.4986993149
475683.2093006850
