3.3093127902
0.0000000000
0.0000000000
-3.3093127900
2708346.5246563950
472445.6843436050
