3.3103051200
0.0000000000
0.0000000000
-3.3103051200
2432871.4151525600
461488.2218474400
