3.3106944701
0.0000000000
0.0000000000
-3.3106944700
2157290.2953472352
453716.3326527650
