3.3105361001
0.0000000000
0.0000000000
-3.3105361000
1881640.0352680499
449134.8307319500
