3.3101001999
0.0000000000
0.0000000000
-3.3101002000
1605924.5850501000
447757.3439499000
