3.3090888301
0.0000000000
0.0000000000
-3.3090888300
1329983.3645444149
449750.8584555850
