3.4229870599
0.0000000000
0.0000000000
-3.4229870600
1054083.7314935301
454929.5405064700
