3.4239006800
0.0000000000
0.0000000000
-3.4239006800
778262.4809503399
463301.5390496600
