3.4242426000
0.0000000000
0.0000000000
-3.4242426000
519784.1071213000
474038.3828787000
