3.3075768198
0.0000000000
0.0000000000
-3.3075768200
2658124.7037884099
834815.0052115900
