3.3088784800
0.0000000000
0.0000000000
-3.3088784800
2420760.7944392404
825543.3505607600
