3.3098144201
0.0000000000
0.0000000000
-3.3098144199
2149391.2149072099
817891.0860927900
