3.3102151200
0.0000000000
0.0000000000
-3.3102151200
1877953.5651075600
813378.5908924401
