3.3108010499
0.0000000000
0.0000000000
-3.3108010499
1857991.0854005250
1132013.6945994750
