3.3103683100
0.0000000000
0.0000000000
-3.3103683100
1606451.2251841552
812022.3438158450
