3.3099760299
0.0000000000
0.0000000000
-3.3099760300
1334723.0149880152
813984.2230119851
