3.4227730599
0.0000000000
0.0000000000
-3.4227730600
1063035.7413865300
819085.7786134700
