3.4230135700
0.0000000000
0.0000000000
-3.4230135700
791425.6615067850
827328.3204932150
