3.4227744900
0.0000000000
0.0000000000
-3.4227744900
536893.6053872450
837901.8816127550
