3.3116087699
0.0000000000
0.0000000000
-3.3116087699
1606978.0458043849
1176411.4941956149
