3.3116134200
0.0000000000
0.0000000000
-3.3116134200
1138853.2758067101
1181822.2841932899
