3.4234524500
0.0000000000
0.0000000000
-3.4234524500
1071990.6717262249
1183366.0182737750
