3.4230818200
0.0000000000
0.0000000000
-3.4230818201
804593.1305409099
1191480.2284590900
