3.4222947900
0.0000000000
0.0000000000
-3.4222947899
554008.8081473949
1201893.5088526050
