1.0000000000
0.0000000000
0.0000000000
-1.0000000000
243362.5000000000
4432373.5000000000
