1.0000000000
0.0000000000
0.0000000000
-1.0000000000
259385.5000000000
4431850.5000000000
