1.0000000000
0.0000000000
0.0000000000
-1.0000000000
264726.5000000000
4431684.5000000000
