1.0000000000
0.0000000000
0.0000000000
-1.0000000000
280749.5000000000
4431206.5000000000
