1.0000000000
0.0000000000
0.0000000000
-1.0000000000
275408.5000000000
4431362.5000000000
