1.0000000000
0.0000000000
0.0000000000
-1.0000000000
286090.5000000000
4431055.5000000000
