1.0000000000
0.0000000000
0.0000000000
-1.0000000000
675757.5000000000
4430224.5000000000
