1.0000000000
0.0000000000
0.0000000000
-1.0000000000
697099.5000000000
4430763.5000000000
