1.0000000000
0.0000000000
0.0000000000
-1.0000000000
691764.5000000000
4430622.5000000000
