1.0000000000
0.0000000000
0.0000000000
-1.0000000000
713107.5000000000
4431207.5000000000
