1.0000000000
0.0000000000
0.0000000000
-1.0000000000
723778.5000000000
4431521.5000000000
