1.0000000000
0.0000000000
0.0000000000
-1.0000000000
734451.5000000000
4431851.5000000000
