1.0000000000
0.0000000000
0.0000000000
-1.0000000000
745123.5000000000
4432195.5000000000
