1.0000000000
0.0000000000
0.0000000000
-1.0000000000
590391.5000000000
4428667.5000000000
