1.0000000000
0.0000000000
0.0000000000
-1.0000000000
585056.5000000000
4428601.5000000000
