1.0000000000
0.0000000000
0.0000000000
-1.0000000000
601061.5000000000
4428809.5000000000
