1.0000000000
0.0000000000
0.0000000000
-1.0000000000
595726.5000000000
4428736.5000000000
