1.0000000000
0.0000000000
0.0000000000
-1.0000000000
617067.5000000000
4429050.5000000000
