1.0000000000
0.0000000000
0.0000000000
-1.0000000000
654414.5000000000
4429745.5000000000
