1.0000000000
0.0000000000
0.0000000000
-1.0000000000
515700.5000000000
4428091.5000000000
